BEGIN:VCALENDAR
VERSION:2.0
PRODID:-//eventon.com NONSGML v1.0//EN
CALSCALE:GREGORIAN
METHOD:PUBLISH
BEGIN:VEVENT
UID:69e6211eb10a4
DTSTAMP:20260420T125038Z
DTSTART:20260416T130000Z
DTEND:20260416T203000Z
LOCATION:
SUMMARY:2026 Environmental Conference
DESCRIPTION:2026 Environmental Conference A Balancing Act: The Environmenta
 l Costs and Benefits of Meeting Our Energy Needs WHEN: Thursday\,  April 16
 \,  from 9:00 am to 4:30 pm WHERE: McAuliffe-Shepard Discovery Center\,  Co
 ncord\,  NH SEE WHO&#8217;S COMING Join us on April 16 as our panelists dis
 cuss the environmental costs and benefits of[..]\nhttps://necanews.org/even
 ts/2026-environmental-conference/
URL:https://necanews.org/events/2026-environmental-conference/
END:VEVENT
END:VCALENDAR