BEGIN:VCALENDAR
VERSION:2.0
PRODID:-//eventon.com NONSGML v1.0//EN
CALSCALE:GREGORIAN
METHOD:PUBLISH
BEGIN:VEVENT
UID:69ea707585de1
DTSTAMP:20260423T191813Z
DTSTART:20260129T211500Z
DTEND:20260129T233000Z
LOCATION:
SUMMARY:YP Networking Following PMC26
DESCRIPTION:Can&#8217;t make it to NECA&#8217;s 2026 Power Markets Conferen
 ce during the day\,  but want to network with other Young Professionals tha
 t evening? Please join us at Chemist Cocktail Bar at 4:15 pm. Registration 
 is $15. The fee includes appetizers; drinks are on a cash bar basis.  REGI
 STER HERE If you[..]\nhttps://necanews.org/events/yp-networking-following-p
 mc26/
URL:https://necanews.org/events/yp-networking-following-pmc26/
END:VEVENT
END:VCALENDAR