BEGIN:VCALENDAR
VERSION:2.0
PRODID:-//eventon.com NONSGML v1.0//EN
CALSCALE:GREGORIAN
METHOD:PUBLISH
BEGIN:VEVENT
UID:69ea5b59f13b7
DTSTAMP:20260423T174809Z
DTSTART:20251113T200000Z
DTEND:20251113T220000Z
LOCATION:
SUMMARY:November 2025 BOD Meeting & HOUR of Power -- In Person (with Virtual Option)
DESCRIPTION:Take advantage of this Member Benefit! This meeting will take p
 lace at the offices of Greenberg Traurig\,  One International Place\,  Bost
 on. It will run from 3 to 5 pm\,  with the HOUR OF POWER beginning at appro
 ximately 4 pm. A Young Professionals Happy Hour\,  hosted by NECA and YPE B
 oston\, [..]\nhttps://necanews.org/events/november-2025-bod-meeting-hour-of
 -power-in-person-with-virtual-option/
URL:https://necanews.org/events/november-2025-bod-meeting-hour-of-power-in-person-with-virtual-option/
END:VEVENT
END:VCALENDAR