BEGIN:VCALENDAR
VERSION:2.0
PRODID:-//eventon.com NONSGML v1.0//EN
CALSCALE:GREGORIAN
METHOD:PUBLISH
BEGIN:VEVENT
UID:69ea5c3d90d76
DTSTAMP:20260423T175157Z
DTSTART:20251029T130000Z
DTEND:20251029T180000Z
LOCATION:
SUMMARY:2025 Energy Innovation Forum
DESCRIPTION:Join NECA for its second annual Energy Innovation Forum! This e
 vent will gather a diverse group of energy industry professionals and compa
 nies to identify the most innovative tools and strategies to advance the en
 ergy industry. The event will kick off with Greentown Labs&#8217; CEO\,  Ge
 orgina Campbell Flatter\,  followed by a[..]\nhttps://necanews.org/events/2
 025-energy-innovation-forum/
URL:https://necanews.org/events/2025-energy-innovation-forum/
END:VEVENT
END:VCALENDAR