BEGIN:VCALENDAR
VERSION:2.0
PRODID:-//eventon.com NONSGML v1.0//EN
CALSCALE:GREGORIAN
METHOD:PUBLISH
BEGIN:VEVENT
UID:69ea5c163c7c9
DTSTAMP:20260423T175118Z
DTSTART:20250728T170000Z
DTEND:20250728T190000Z
LOCATION:
SUMMARY:NECA's 40th Anniversary Celebration
DESCRIPTION:Help NECA celebrate our 40th Anniversary at Lord Hobo\,  2 Dryd
 ock Avenue. Parking is available at Marine Park Garage located at 12 Drydoc
 k Avenue one block beyond. All are welcome! Stop by any time after 5 for co
 mplimentary light bites (cash bar)\,  but to help us plan\,  we&#8217;d app
 reciate your[..]\nhttps://necanews.org/events/necas-40th-anniversary-celebr
 ation/
URL:https://necanews.org/events/necas-40th-anniversary-celebration/
END:VEVENT
END:VCALENDAR