BEGIN:VCALENDAR
VERSION:2.0
PRODID:-//eventon.com NONSGML v1.0//EN
CALSCALE:GREGORIAN
METHOD:PUBLISH
BEGIN:VEVENT
UID:69ea5ba62af0b
DTSTAMP:20260423T174926Z
DTSTART:20250930T083000Z
DTEND:20250930T160000Z
LOCATION:
SUMMARY:2025 Fuels Conference
DESCRIPTION:WHEN: Tuesday\,  September 30 from 8:30 am to 4:00 pm WHERE: Ma
 rriott Courtyard Hotel\,  Marlborough\,  MA OVERVIEW: Energy market priorit
 ies are often framed as reliable\,  affordable\,  and clean. While affordab
 ility has been front of mind for gas customers\,  legislators\,  and regula
 tors after last winter\,  this is dependent on the reliability[..]\nhttps:/
 /necanews.org/events/2025-fuels-conference/
URL:https://necanews.org/events/2025-fuels-conference/
END:VEVENT
END:VCALENDAR