BEGIN:VCALENDAR
VERSION:2.0
PRODID:-//eventon.com NONSGML v1.0//EN
CALSCALE:GREGORIAN
METHOD:PUBLISH
BEGIN:VEVENT
UID:69ea706b0b7fa
DTSTAMP:20260423T191803Z
DTSTART:20250911T190000Z
DTEND:20250911T210000Z
LOCATION:
SUMMARY:September 2025 BOD Meeting & HOUR of Power--Virtual
DESCRIPTION:This meeting is being held virtually. Board meetings are open t
 o all NECA members. If you are not a NECA member\,  but wish to attend\,  p
 lease contact Marla Simon at marla@necanews.org before registering. Thank y
 ou!\nhttps://necanews.org/events/september-2025-bod-meeting-hour-of-power-v
 irtual/
URL:https://necanews.org/events/september-2025-bod-meeting-hour-of-power-virtual/
END:VEVENT
END:VCALENDAR