BEGIN:VCALENDAR
VERSION:2.0
PRODID:-//eventon.com NONSGML v1.0//EN
CALSCALE:GREGORIAN
METHOD:PUBLISH
BEGIN:VEVENT
UID:69ea5c2e9e8b2
DTSTAMP:20260423T175142Z
DTSTART:20250508T160000Z
DTEND:20250508T180000Z
LOCATION:
SUMMARY:May 2025 BOD Meeting & HOUR of Power--Virtual
DESCRIPTION:This meeting is being held virtually and is sponsored by Davis 
 Malm. Board meetings are open to all NECA members. If you are not a NECA me
 mber\,  but wish to attend\,  please contact Marla Simon at marla@necanews.
 org before registering. Thank you!\nhttps://necanews.org/events/may-2025-bo
 d-meeting-hour-of-power-virtual/
URL:https://necanews.org/events/may-2025-bod-meeting-hour-of-power-virtual/
END:VEVENT
END:VCALENDAR