BEGIN:VCALENDAR
VERSION:2.0
PRODID:-//eventon.com NONSGML v1.0//EN
CALSCALE:GREGORIAN
METHOD:PUBLISH
BEGIN:VEVENT
UID:69ea5b4b5cce3
DTSTAMP:20260423T174755Z
DTSTART:20250605T000000Z
DTEND:20250605T210000Z
LOCATION:
SUMMARY:2025 New England Energy Conference & Exposition
DESCRIPTION:2025 New England Energy Conference &amp; Exposition June 4 Netw
 orking Events | June 5 Conference Sea Crest Beach Resort\,  N. Falmouth\,  
 MA Tickets are no longer available for this event. Gridlock or Growth: The 
 Northeast’s Energy Evolution Join NECA &amp; CPES at the 2025 New England
  Energy Conference &amp; Exposition\, [..]\nhttps://necanews.org/events/202
 5-new-england-energy-conference-exposition/
URL:https://necanews.org/events/2025-new-england-energy-conference-exposition/
END:VEVENT
END:VCALENDAR