BEGIN:VCALENDAR
VERSION:2.0
PRODID:-//eventon.com NONSGML v1.0//EN
CALSCALE:GREGORIAN
METHOD:PUBLISH
BEGIN:VEVENT
UID:69ea5b4c580e3
DTSTAMP:20260423T174756Z
DTSTART:20250912T153000Z
DTEND:20250912T170000Z
LOCATION:
SUMMARY:Report from DC
DESCRIPTION:Report from DC: Energy and Environment Edition Lost track of Ex
 ecutive orders? Struggling to keep up with all the lawsuits? Asking yoursel
 f\,  “Who’s on first?” You’re not alone. It is a dizzying time in W
 ashington\,  D.C\,  with wide-ranging implications for environmental and en
 ergy policy efforts. Join us for an update[..]\nhttps://necanews.org/events
 /report-from-dc/
URL:https://necanews.org/events/report-from-dc/
END:VEVENT
END:VCALENDAR