BEGIN:VCALENDAR
VERSION:2.0
PRODID:-//eventon.com NONSGML v1.0//EN
CALSCALE:GREGORIAN
METHOD:PUBLISH
BEGIN:VEVENT
UID:69ea5b4e41d75
DTSTAMP:20260423T174758Z
DTSTART:20250124T163000Z
DTEND:20250124T180000Z
LOCATION:
SUMMARY:Hot Topics in 2025 New England Public Policy
DESCRIPTION:Hot Topics in 2025 New England Public Policy Across New England
 \,  2025 promises to be a busy year for energy and environmental policies. 
 In all six states\,  lawmakers will be working through issues ranging from 
 emissions reductions to affordability. Join us for a conversation with publ
 ic policy experts from each[..]\nhttps://necanews.org/events/hot-topics-in-
 2025-new-england-public-policy/
URL:https://necanews.org/events/hot-topics-in-2025-new-england-public-policy/
END:VEVENT
END:VCALENDAR