BEGIN:VCALENDAR
VERSION:2.0
PRODID:-//eventon.com NONSGML v1.0//EN
CALSCALE:GREGORIAN
METHOD:PUBLISH
BEGIN:VEVENT
UID:69ea5b5f398d3
DTSTAMP:20260423T174815Z
DTSTART:20241212T150000Z
DTEND:20241212T170000Z
LOCATION:
SUMMARY:December 2024 BOD Meeting & HOUR of Power--Virtual
DESCRIPTION:Take advantage of this Member Benefit! This meeting will run fr
 om 3 to 5 pm\,  with the HOUR OF POWER beginning at approximately 4 pm. Mee
 ting is for all interested members\,  the old and new board. If you are not
  a NECA member\,  but wish to attend\,  please contact Marla[..]\nhttps://n
 ecanews.org/events/december-2024-bod-meeting-hour-of-power-virtual/
URL:https://necanews.org/events/december-2024-bod-meeting-hour-of-power-virtual/
END:VEVENT
END:VCALENDAR