BEGIN:VCALENDAR
VERSION:2.0
PRODID:-//eventon.com NONSGML v1.0//EN
CALSCALE:GREGORIAN
METHOD:PUBLISH
BEGIN:VEVENT
UID:69ea5b92847f9
DTSTAMP:20260423T174906Z
DTSTART:20241121T150000Z
DTEND:20241121T170000Z
LOCATION:
SUMMARY:November 2024 BOD Meeting & HOUR of Power--Virtual
DESCRIPTION:Take advantage of this Member Benefit! This meeting will run fr
 om 3 to 5 pm\,  with the HOUR OF POWER beginning at approximately 4 pm. Mee
 ting agenda is administration\,  nominations for 2025 board of directors el
 ection and committee reports. Board meetings are open to all NECA members. 
 If you are[..]\nhttps://necanews.org/events/november-2024-bod-meeting-hour-
 of-power-virtual/
URL:https://necanews.org/events/november-2024-bod-meeting-hour-of-power-virtual/
END:VEVENT
END:VCALENDAR