BEGIN:VCALENDAR
VERSION:2.0
PRODID:-//eventon.com NONSGML v1.0//EN
CALSCALE:GREGORIAN
METHOD:PUBLISH
BEGIN:VEVENT
UID:69ea5c33e545b
DTSTAMP:20260423T175147Z
DTSTART:20241017T120000Z
DTEND:20241017T133000Z
LOCATION:
SUMMARY:Current Trends in C&I Retail Marketing
DESCRIPTION:Current Trends in Retail Marketing to C&amp;I Customers: Opport
 unities &amp; Challenges Retail marketing to the C&amp;I segment has a comp
 elling business case for providing cost-effective electric supply and for h
 aving substantially fewer regulatory requirements compared to the mass mark
 et residential segment.  Nevertheless\,  the C&amp;I segment faces excitin
 g opportunities and challenges[..]\nhttps://necanews.org/events/current-tre
 nds-in-retail-marketing/
URL:https://necanews.org/events/current-trends-in-retail-marketing/
END:VEVENT
END:VCALENDAR