BEGIN:VCALENDAR
VERSION:2.0
PRODID:-//eventon.com NONSGML v1.0//EN
CALSCALE:GREGORIAN
METHOD:PUBLISH
BEGIN:VEVENT
UID:69ea5bb0551e0
DTSTAMP:20260423T174936Z
DTSTART:20250117T020000Z
DTEND:20250116T210000Z
LOCATION:
SUMMARY:2025 Power Markets Conference
DESCRIPTION:2025 Power Markets Conference See Who&#8217;s Coming WHEN: Thur
 sday\,  January 16 from 9:00 am to 4:00 pm WHERE: Boston University\,  Cent
 er for Computing &amp; Data Sciences\,  665 Commonwealth Avenue A major tra
 nsformation is underway in our energy system\,  driven by state and federal
  policies seeking to spur renewable development\,  electrify[..]\nhttps://n
 ecanews.org/events/2025-power-markets-conference/
URL:https://necanews.org/events/2025-power-markets-conference/
END:VEVENT
END:VCALENDAR