BEGIN:VCALENDAR
VERSION:2.0
PRODID:-//eventon.com NONSGML v1.0//EN
CALSCALE:GREGORIAN
METHOD:PUBLISH
BEGIN:VEVENT
UID:69ea5bdf04245
DTSTAMP:20260423T175023Z
DTSTART:20240912T150000Z
DTEND:20240912T170000Z
LOCATION:
SUMMARY:September 2024 BOD Meeting & HOUR of Power--Virtual
DESCRIPTION:Take advantage of this Member Benefit! This meeting will run fr
 om 3 to 5 pm\,  with the HOUR OF POWER beginning at approximately 4 pm. Boa
 rd meetings are open to all NECA members. If you are not a NECA member\,  b
 ut wish to attend\,  please contact Marla Simon at marla@necanews.org[..]\n
 https://necanews.org/events/september-2024-bod-meeting-hour-of-power-virtua
 l/
URL:https://necanews.org/events/september-2024-bod-meeting-hour-of-power-virtual/
END:VEVENT
END:VCALENDAR