BEGIN:VCALENDAR
VERSION:2.0
PRODID:-//eventon.com NONSGML v1.0//EN
CALSCALE:GREGORIAN
METHOD:PUBLISH
BEGIN:VEVENT
UID:69ea5bba9cc56
DTSTAMP:20260423T174946Z
DTSTART:20241008T120000Z
DTEND:20241008T133000Z
LOCATION:
SUMMARY:Virtual Power Plants 101
DESCRIPTION:VPP 101: A Virtual event about virtual power plants! A Virtual 
 Power Plant (VPP) is a network of decentralized power-generating units\,  s
 uch as solar panels\,  wind turbines\,  batteries\,  and other energy resou
 rces\,  that are managed collectively by a central control system. These un
 its can include small-scale renewable energy sources\,  demand-response[..]
 \nhttps://necanews.org/events/virtual-power-plants-101/
URL:https://necanews.org/events/virtual-power-plants-101/
END:VEVENT
END:VCALENDAR