BEGIN:VCALENDAR
VERSION:2.0
PRODID:-//eventon.com NONSGML v1.0//EN
CALSCALE:GREGORIAN
METHOD:PUBLISH
BEGIN:VEVENT
UID:69ea5bca36986
DTSTAMP:20260423T175002Z
DTSTART:20240924T083000Z
DTEND:20240924T163000Z
LOCATION:
SUMMARY:2024 Fuels Conference
DESCRIPTION:IMPORTANT LINKS: PROGRAM SPONSORING Because of security require
 ments at this venue\,  walk-in registrations are not permitted. WHEN: Tuesd
 ay\,  September 24 from 8:30 am to 4:30 pm WHERE: Federal Reserve Bank Buil
 ding\,  600 Atlantic Avenue\,  Boston\,  MA Join us for NECA’s Annual Fue
 ls Conference\,  an event dedicated to exploring the future[..]\nhttps://ne
 canews.org/events/2024-fuels-conference/
URL:https://necanews.org/events/2024-fuels-conference/
END:VEVENT
END:VCALENDAR