BEGIN:VCALENDAR
VERSION:2.0
PRODID:-//eventon.com NONSGML v1.0//EN
CALSCALE:GREGORIAN
METHOD:PUBLISH
BEGIN:VEVENT
UID:69ea5b5e1b556
DTSTAMP:20260423T174814Z
DTSTART:20240604T120000Z
DTEND:20240605T170000Z
LOCATION:
SUMMARY:30th Annual NEECE
DESCRIPTION:30 Years of NEECE: Energizing New England&#8217;s Past\,  Prese
 nt and Future CONFERENCE SITE What: New England Energy Conference &amp; Exp
 osition Where: The Hilton\,  Mystic\,  CT When: June 4: Networking Events |
  June 5: Conference We will kick off the event with two networking options 
 on June 4 and meet at[..]\nhttps://necanews.org/events/30th-annual-neece/
URL:https://necanews.org/events/30th-annual-neece/
END:VEVENT
END:VCALENDAR