BEGIN:VCALENDAR
VERSION:2.0
PRODID:-//eventon.com NONSGML v1.0//EN
CALSCALE:GREGORIAN
METHOD:PUBLISH
BEGIN:VEVENT
UID:69ea5b971cba7
DTSTAMP:20260423T174911Z
DTSTART:20240409T160000Z
DTEND:20240409T173000Z
LOCATION:
SUMMARY:Cumulative Impact Analyses & Environmental Justice
DESCRIPTION:Cumulative Impact Analyses to Address Environmental Justice in 
 Massachusetts &#8211; Virtual Event The Massachusetts Department of Environ
 mental Protection (MassDEP) is finalizing new regulatory amendments to requ
 ire a cumulative impact analysis (CIA) for facilities in or near Environmen
 tal Justice (EJ) communities that are applying for an air Comprehensive Pla
 n Application (CPA).[..]\nhttps://necanews.org/events/cumulative-impact-ana
 lyses-environmental-justice/
URL:https://necanews.org/events/cumulative-impact-analyses-environmental-justice/
END:VEVENT
END:VCALENDAR