BEGIN:VCALENDAR
VERSION:2.0
PRODID:-//eventon.com NONSGML v1.0//EN
CALSCALE:GREGORIAN
METHOD:PUBLISH
BEGIN:VEVENT
UID:69ea5c24a0662
DTSTAMP:20260423T175132Z
DTSTART:20240404T160000Z
DTEND:20240404T173000Z
LOCATION:
SUMMARY:Low Carbon Fuel Standard Primer
DESCRIPTION:Low Carbon Fuel Standard Primer &#8211; Virtual Event An LCFS P
 rogram is a market-based and technology-neutral policy to reduce the carbon
  intensity of transportation fuels (e.g. diesel and gasoline) by incentiviz
 ing a range of low-carbon and renewable alternatives. It allows producers a
 nd importers to generate\,  acquire\,  transfer\,  bank\,  borrow\,  and[..
 ]\nhttps://necanews.org/events/low-carbon-fuel-standard-primer/
URL:https://necanews.org/events/low-carbon-fuel-standard-primer/
END:VEVENT
END:VCALENDAR