BEGIN:VCALENDAR
VERSION:2.0
PRODID:-//eventon.com NONSGML v1.0//EN
CALSCALE:GREGORIAN
METHOD:PUBLISH
BEGIN:VEVENT
UID:69ea5bab5fff1
DTSTAMP:20260423T174931Z
DTSTART:20240307T140000Z
DTEND:20240307T213000Z
LOCATION:
SUMMARY:2024 Renewable Energy Conference
DESCRIPTION:2024 Renewable Energy Conference WHEN: Thursday\,  March 7 from
  9:00 am to 4:30 pm WHERE: Courtyard by Marriott | 275 Tremont Street\,  Bo
 ston\,  MA The new year brings us one year closer to 2030. If you are wonde
 ring what our much-needed clean energy grid will look like\,  join us for[.
 .]\nhttps://necanews.org/events/2024-renewable-energy-conference/
URL:https://necanews.org/events/2024-renewable-energy-conference/
END:VEVENT
END:VCALENDAR