BEGIN:VCALENDAR
VERSION:2.0
PRODID:-//eventon.com NONSGML v1.0//EN
CALSCALE:GREGORIAN
METHOD:PUBLISH
BEGIN:VEVENT
UID:69ea5bd445038
DTSTAMP:20260423T175012Z
DTSTART:20240208T200000Z
DTEND:20240208T220000Z
LOCATION:
SUMMARY:February 2024 BOD Meeting & HOUR of Power--Virtual
DESCRIPTION:This meeting will run from 3 to 5 pm\,  with the HOUR OF POWER 
 beginning at approximately 4 pm. Board meetings are open to all NECA member
 s. If you are not a NECA member\,  but wish to attend\,  please contact Mar
 la Simon at marla@necanews.org before registering. Thank you.\nhttps://neca
 news.org/events/february-2024-bod-meeting-hour-of-power-virtual/
URL:https://necanews.org/events/february-2024-bod-meeting-hour-of-power-virtual/
END:VEVENT
END:VCALENDAR