BEGIN:VCALENDAR
VERSION:2.0
PRODID:-//eventon.com NONSGML v1.0//EN
CALSCALE:GREGORIAN
METHOD:PUBLISH
BEGIN:VEVENT
UID:69ea708479c97
DTSTAMP:20260423T191828Z
DTSTART:20240126T163000Z
DTEND:20240126T180000Z
LOCATION:
SUMMARY:2024 Public Policy Hot Topics
DESCRIPTION:Hot Topics in 2024 New England Public Policy  Across New Engla
 nd\,  2024 promises to be a busy year for energy and environmental policies
 . In all six states\,  lawmakers will be looking to craft new laws on issue
 s ranging from emissions reductions and environmental justice to managing c
 onsumer costs\,  all while[..]\nhttps://necanews.org/events/2024-public-pol
 icy-hot-topics/
URL:https://necanews.org/events/2024-public-policy-hot-topics/
END:VEVENT
END:VCALENDAR