BEGIN:VCALENDAR
VERSION:2.0
PRODID:-//eventon.com NONSGML v1.0//EN
CALSCALE:GREGORIAN
METHOD:PUBLISH
BEGIN:VEVENT
UID:69ea5c38a498c
DTSTAMP:20260423T175152Z
DTSTART:20231207T200000Z
DTEND:20231207T220000Z
LOCATION:
SUMMARY:December 2023 BOD Meeting & HOUR of Power--Virtual and In Person
DESCRIPTION:In-person meeting at the Federal Reserve Bank Building\,  600 A
 tlantic Avenue\,  Boston\,  with virtual option. Meeting will run from 3 to
  5\,  followed by a Holiday Celebration at the Federal Reserve Bank Buildin
 g. (The holiday event requires a separate registration). Meeting is for all
  interested members\,  the old and new[..]\nhttps://necanews.org/events/dec
 ember-2023-bod-meeting-hour-of-power-virtual-and-in-person/
URL:https://necanews.org/events/december-2023-bod-meeting-hour-of-power-virtual-and-in-person/
END:VEVENT
END:VCALENDAR