BEGIN:VCALENDAR
VERSION:2.0
PRODID:-//eventon.com NONSGML v1.0//EN
CALSCALE:GREGORIAN
METHOD:PUBLISH
BEGIN:VEVENT
UID:69ea70748bbdd
DTSTAMP:20260423T191812Z
DTSTART:20231215T170000Z
DTEND:20231215T183000Z
LOCATION:
SUMMARY:Hydrogen Hubs Are Happening!
DESCRIPTION:Hydrogen Hubs Are Happening! In October\,  the U.S. Department 
 of Energy announced the seven selected Regional Clean Hydrogen Hubs that wi
 ll participate in the $7 billion investment to help accelerate the commerci
 al-scale deployment of low-cost\,  clean hydrogen. These hydrogen hubs will
  focus on different aspects of hydrogen development\,  processing\,  transp
 ortation\, [..]\nhttps://necanews.org/events/hydrogen-hubs-are-happening/
URL:https://necanews.org/events/hydrogen-hubs-are-happening/
END:VEVENT
END:VCALENDAR