BEGIN:VCALENDAR
VERSION:2.0
PRODID:-//eventon.com NONSGML v1.0//EN
CALSCALE:GREGORIAN
METHOD:PUBLISH
BEGIN:VEVENT
UID:69ea5b9c6c7d5
DTSTAMP:20260423T174916Z
DTSTART:20231102T210000Z
DTEND:20231102T230000Z
LOCATION:
SUMMARY:2023 Young Professionals Career Panel
DESCRIPTION:2023 Young Professionals Career Panel WHEN: Thursday\,  Novembe
 r 2\,  from 5:00 to 7:00 pm ET  WHERE: Holland &amp; Knight\,  10 Saint Ja
 mes Avenue\,  Boston  Join NECA for a panel discussion and networking even
 t! We will be featuring both rising professionals and seasoned professional
 s from a variety of disciplines across the[..]\nhttps://necanews.org/events
 /2023-young-professionals-career-panel/
URL:https://necanews.org/events/2023-young-professionals-career-panel/
END:VEVENT
END:VCALENDAR