BEGIN:VCALENDAR
VERSION:2.0
PRODID:-//eventon.com NONSGML v1.0//EN
CALSCALE:GREGORIAN
METHOD:PUBLISH
BEGIN:VEVENT
UID:69ea5b4d626eb
DTSTAMP:20260423T174757Z
DTSTART:20231207T220000Z
DTEND:20231208T000000Z
LOCATION:
SUMMARY:2023 Holiday Celebration
DESCRIPTION:2023 Holiday Celebration WHEN: Thursday\,  December 7 from 5:00
  to 7:00 pm ET WHERE: Federal Reserve Bank Building\,  600 Atlantic Avenue\
 ,  Boston\,  MA Parking Information Join us to celebrate the holiday season
  with colleagues for plentiful hors d’oeuvres and an open wine and beer b
 ar. Our friends at The Dimock[..]\nhttps://necanews.org/events/2023-holiday
 -celebration/
URL:https://necanews.org/events/2023-holiday-celebration/
END:VEVENT
END:VCALENDAR