BEGIN:VCALENDAR
VERSION:2.0
PRODID:-//eventon.com NONSGML v1.0//EN
CALSCALE:GREGORIAN
METHOD:PUBLISH
BEGIN:VEVENT
UID:69ea5c29d058e
DTSTAMP:20260423T175137Z
DTSTART:20231011T190000Z
DTEND:20231011T210000Z
LOCATION:
SUMMARY:October 2023 BOD Meeting & HOUR of Power--Virtual
DESCRIPTION:October 2023 BOD Meeting & HOUR of Power--Virtual\nhttps://neca
 news.org/events/october-2023-bod-meeting-hour-of-power-virtual/
URL:https://necanews.org/events/october-2023-bod-meeting-hour-of-power-virtual/
END:VEVENT
END:VCALENDAR