BEGIN:VCALENDAR
VERSION:2.0
PRODID:-//eventon.com NONSGML v1.0//EN
CALSCALE:GREGORIAN
METHOD:PUBLISH
BEGIN:VEVENT
UID:69ea5ba17fc1a
DTSTAMP:20260423T174921Z
DTSTART:20231109T200000Z
DTEND:20231109T220000Z
LOCATION:
SUMMARY:November 2023 BOD Meeting & HOUR of Power--Virtual
DESCRIPTION:This meeting will run from 3 to 5 pm\,  with the HOUR OF POWER 
 beginning at approximately 4 pm. Meeting agenda is administration\,  nomina
 tions for 2024 board of directors election and committee reports. Board mee
 tings are open to all NECA members. If you are not a NECA member\,  but wis
 h[..]\nhttps://necanews.org/events/november-2023-bod-meeting-hour-of-power-
 virtual/
URL:https://necanews.org/events/november-2023-bod-meeting-hour-of-power-virtual/
END:VEVENT
END:VCALENDAR