BEGIN:VCALENDAR
VERSION:2.0
PRODID:-//eventon.com NONSGML v1.0//EN
CALSCALE:GREGORIAN
METHOD:PUBLISH
BEGIN:VEVENT
UID:69ea5bcf0ef00
DTSTAMP:20260423T175007Z
DTSTART:20230918T120000Z
DTEND:20230918T210000Z
LOCATION:
SUMMARY:2023 Fuels Conference: Fuels for Thought
DESCRIPTION:2023 Fuels Conference: Fuels for Thought WHEN: Monday\,  Septem
 ber 18 from 8 am to 5 pm with reception to follow WHERE: The University of 
 Massachusetts Club\,  One Beacon Street\,  Boston\,  MA PARKING: One Beacon
  Garage\,  Boston\,  MA OVERVIEW: The transition to renewable and clean ene
 rgy sources is paramount\,  but it[..]\nhttps://necanews.org/events/2023-fu
 els-conference/
URL:https://necanews.org/events/2023-fuels-conference/
END:VEVENT
END:VCALENDAR